BEGIN:VCALENDAR
VERSION:2.0
PRODID:-//Detroit Justice Center - ECPv6.15.17.1//NONSGML v1.0//EN
CALSCALE:GREGORIAN
METHOD:PUBLISH
X-WR-CALNAME:Detroit Justice Center
X-ORIGINAL-URL:https://detroitjustice.org
X-WR-CALDESC:Events for Detroit Justice Center
REFRESH-INTERVAL;VALUE=DURATION:PT1H
X-Robots-Tag:noindex
X-PUBLISHED-TTL:PT1H
BEGIN:VTIMEZONE
TZID:UTC
BEGIN:STANDARD
TZOFFSETFROM:+0000
TZOFFSETTO:+0000
TZNAME:UTC
DTSTART:20250101T000000
END:STANDARD
END:VTIMEZONE
BEGIN:VEVENT
DTSTART;TZID=UTC:20260208T103000
DTEND;TZID=UTC:20260208T113000
DTSTAMP:20260424T104952
CREATED:20260126T213645Z
LAST-MODIFIED:20260126T213645Z
UID:5274-1770546600-1770550200@detroitjustice.org
SUMMARY:Birmingham Unitarian Church: Religious Justice Series
DESCRIPTION:Join us on Sunday\, February 8th at 10:30am. Our Community Legal Advocate\, Lauren Thomas\, will be speaking about DJC’s work as part of Birmingham Unitarian Church’s (BUC) Religious Justice Series. \nThe mission of the BUC Racial Justice program is to support congregants in developing and living out an intentionally anti-racist identity. As a congregation\, they strive to be welcoming and inclusive for people of all races\, affirming the worth and dignity of all\, and to act on this commitment in our wider community. \nThey support the work of frontline communities\, who experience the most immediate and worst impacts of inequity and injustice. Their team works to build partnerships with organizations whose experience on the frontlines informs the work needed to dismantle racism.
URL:https://detroitjustice.org/event/birmingham-unitarian-church-religious-justice-series/
LOCATION:Birmingham Unitarian Church\, 38651 Woodward Ave.\, Bloomfield Hills\, MI\, 48304\, United States
ATTACH;FMTTYPE=image/png:https://detroitjustice.org/wp-content/uploads/2026/01/GRATITUDE-SPOTLIGHT-scaled.png
END:VEVENT
END:VCALENDAR