BEGIN:VCALENDAR
VERSION:2.0
PRODID:-//Detroit Justice Center - ECPv6.15.17.1//NONSGML v1.0//EN
CALSCALE:GREGORIAN
METHOD:PUBLISH
X-ORIGINAL-URL:https://detroitjustice.org
X-WR-CALDESC:Events for Detroit Justice Center
REFRESH-INTERVAL;VALUE=DURATION:PT1H
X-Robots-Tag:noindex
X-PUBLISHED-TTL:PT1H
BEGIN:VTIMEZONE
TZID:UTC
BEGIN:STANDARD
TZOFFSETFROM:+0000
TZOFFSETTO:+0000
TZNAME:UTC
DTSTART:20250101T000000
END:STANDARD
END:VTIMEZONE
BEGIN:VEVENT
DTSTART;VALUE=DATE:20260425
DTEND;VALUE=DATE:20260429
DTSTAMP:20260420T091837
CREATED:20260408T163102Z
LAST-MODIFIED:20260408T163300Z
UID:5516-1777075200-1777420799@detroitjustice.org
SUMMARY:The 2026 National Planning Conference
DESCRIPTION:The 2026 National Planning Conference is your ultimate ticket to connect with your professional community.  This April 25-28\, join us in Detroit and immerse yourself in an inspiring network of peers that will empower you to build the future of the planning profession. \nThe National Planning Conference (NPC) is the flagship event of the American Planning Association. Each Spring\, over 5\,000 planning professionals gather in a rotating American city to make lifelong connections and share innovations from the forefront of planning. Through education sessions in a variety of formats\, mobile workshops across the host city\, timely keynote speeches\, and experiences with sponsors and exhibitors in the conference Hub\, attendees accumulate insights they can apply directly to their work. \nManaging Attorney of our Affordable Housing Group\, Mark Bennett\, will be speaking on a panel with our former Board Member and Executive Director of Dream of Detroit\, Mark Crain! \n🔗 Follow this link to learn more and register: https://www.planning.org/conference/registration/
URL:https://detroitjustice.org/event/the-2026-national-planning-conference/
LOCATION:MI
ATTACH;FMTTYPE=image/jpeg:https://detroitjustice.org/wp-content/uploads/2026/04/HDaMJDTWoAAIQ7z.jpeg
END:VEVENT
BEGIN:VEVENT
DTSTART;TZID=UTC:20260429T173000
DTEND;TZID=UTC:20260429T193000
DTSTAMP:20260420T091837
CREATED:20260410T171847Z
LAST-MODIFIED:20260410T171847Z
UID:5532-1777483800-1777491000@detroitjustice.org
SUMMARY:DJC Spring Friendraiser
DESCRIPTION:📢 Calling all DJC supporters 📢!! \nPlease join us on Wednesday\, April 29th from 5:30-7:30pm at Alkebu-lan Village for our DJC Spring Friendraiser! This after-work mixer is intended to update the community on ways to deepen support towards DJC’s mission. Attendees will learn about the history of Alkebu-lan\, DJC’s upcoming donor organizing pilot program\, and have the chance to win DJC + Alkebu-lan Village swag! \nThis year’s friendraiser is hosted by our amazing board member and Deputy CEO of Alkebu-lan Village\, Gregory McKenzie. Visit our blog page on the DJC website to learn more about Gregory and how he became a board member after attending our last Friendraiser. \nBe sure to join us and learn how to collectively expand resources for our movement towards just cities. \nWe hope to see you there! \n🔗 Register Here
URL:https://detroitjustice.org/event/djc-spring-friendraiser/
LOCATION:Alkebu-lan Village\, 7701 Harper Ave\, Detroit\, MI\, 48213\, United States
ATTACH;FMTTYPE=image/png:https://detroitjustice.org/wp-content/uploads/2026/04/partner-logos-scaled.png
END:VEVENT
END:VCALENDAR